
BEGIN:VCALENDAR
VERSION:2.0
PRODID:-//Alliance for Smiles - ECPv6.15.13//NONSGML v1.0//EN
CALSCALE:GREGORIAN
METHOD:PUBLISH
X-WR-CALNAME:Alliance for Smiles
X-ORIGINAL-URL:https://www.allianceforsmiles.org
X-WR-CALDESC:Events for Alliance for Smiles
REFRESH-INTERVAL;VALUE=DURATION:PT1H
X-Robots-Tag:noindex
X-PUBLISHED-TTL:PT1H
BEGIN:VTIMEZONE
TZID:America/Los_Angeles
BEGIN:DAYLIGHT
TZOFFSETFROM:-0800
TZOFFSETTO:-0700
TZNAME:PDT
DTSTART:20250309T100000
END:DAYLIGHT
BEGIN:STANDARD
TZOFFSETFROM:-0700
TZOFFSETTO:-0800
TZNAME:PST
DTSTART:20251102T090000
END:STANDARD
BEGIN:DAYLIGHT
TZOFFSETFROM:-0800
TZOFFSETTO:-0700
TZNAME:PDT
DTSTART:20260308T100000
END:DAYLIGHT
BEGIN:STANDARD
TZOFFSETFROM:-0700
TZOFFSETTO:-0800
TZNAME:PST
DTSTART:20261101T090000
END:STANDARD
BEGIN:DAYLIGHT
TZOFFSETFROM:-0800
TZOFFSETTO:-0700
TZNAME:PDT
DTSTART:20270314T100000
END:DAYLIGHT
BEGIN:STANDARD
TZOFFSETFROM:-0700
TZOFFSETTO:-0800
TZNAME:PST
DTSTART:20271107T090000
END:STANDARD
END:VTIMEZONE
BEGIN:VEVENT
DTSTART;VALUE=DATE:20260419
DTEND;VALUE=DATE:20260426
DTSTAMP:20260421T075654
CREATED:20250530T194249Z
LAST-MODIFIED:20260324T173848Z
UID:37693-1776556800-1777161599@www.allianceforsmiles.org
SUMMARY:Lagos Nigeria Teaching Mission
DESCRIPTION:
URL:https://www.allianceforsmiles.org/event/lagos-nigeria-teaching-mission-3/
LOCATION:Lagos State University Teaching Hospital (LASUTH)\, 1 - 5\, Oba Akinjobi Road\, Ikeja\, Nigeria
CATEGORIES:Lagos 2026,Nigeria
END:VEVENT
BEGIN:VEVENT
DTSTART;TZID=America/Los_Angeles:20260425T170000
DTEND;TZID=America/Los_Angeles:20260425T230000
DTSTAMP:20260421T075654
CREATED:20251121T180830Z
LAST-MODIFIED:20260417T174959Z
UID:38241-1777136400-1777158000@www.allianceforsmiles.org
SUMMARY:22nd Anniversary Night of Smiles Gala - April 25\, 2026
DESCRIPTION:Saturday April 25th\nHotel Nikko\, 222 Mason Street\nWe can’t wait to see you for this globally-themed event celebrating 22 years of changing lives and smiles around the world! Help us honor some of the extraordinary individuals who are transforming children’s futures & improving healthcare. \nCongratulations To Our 2026 Honorees!\n~ Dr. Eric and  Sandy Helling: Volunteers of the Year \n~ Rod Young & Charlotte Jacobs: John Uth Memorial Award for Significant Financial Support \n~ Debbie and Ron Kent: Children’s Champion Award \n\n\n\n\n\n\n\n\n\n\n\n\n\n\n\n\n\n\n\n\n\n\n\n\n\n\n\n\n\n\nEvent Schedule\nOpening Reception 5:00 – 7:00 PM\nSilent Auction\, Raffle\, Photo Booth\nWine\, Champagne & Hors D’Oeuvres \nDinner Program 7:00 – 10:30 PM\nPerformances\, Live Auction\, Awards\,\nFund-a-Smile\, Raffle Drawing\, Dancing \nAttire\nBlack-tie Optional or\nInternationally-inspired Attire \n\n\n\n\n\n\n\n\n\n\n\n\n\n\n\n\n\n\n\n\n\n\n\n\n\n\n\n\nLive Auction Preview\nClick item names below for photos and details: \n\n\n\n\n\n\n\n\nGETAWAY TO THE DOMINICAN REPUBLIC\n\n\n\nA 1-week heavenly stay in a 2-bedroom\, 2-bathroom beach front condo in gorgeous Kite Beach\, Cabarete – known as an international destination for kite-boarding\, surfing\, & paddle-boarding. Whether you’re after adventure or relaxation\, this destination offers the best of both worlds. Available from May 2026 through January 10\, 2027 by mutual agreement with the donor.\nClick here for more information and photos.\nDonated by Dr. Susan Taylor \n\n\n\n\n\n\n\n\nSF LUXURY DATE NIGHT - MICHELIN-STARRED KILN SF & 2 NIGHTS AT W SAN FRANCISCO\n\n\n\n\nExperience a curated San Francisco getaway combining luxury accommodations and fine dining. \nRetreat to a two-night stay at W San Francisco\, located in the heart of the city. Wake up to sweeping views of the San Francisco skyline and dine at TRACE\, the hotel’s acclaimed farm-to-table restaurant\, with $75 in food and beverage credit. \nAfter breakfast\, tour the San Francisco Museum of Modern Art\, located just steps away\, with two complimentary tickets. Conclude your experience at Kiln\, a double Michelin-starred restaurant\, where you will enjoy an extraordinary 18-course tasting menu presented over approximately two and a half hours. Each dish is meticulously crafted – expect bold flavors\, inventive techniques\, and a dining experience unlike any other. \nHotel stay excludes major event days. Expires 4/25/27. \nDonated by Kiln & W SF \n \n\n\n\n\n\n\n\n\nCOSTA RICA DREAM VACATION\n\n\n\nA 1-week stay in a stunning 3-bedroom\, 2-bath condo located near the world-famous Los Sueños area — the ultimate destination for sun\, sand\, & adventure\, where you’ll find championship golf\, world-class fishing\, & endless water sports. Go zip-lining through the jungle\, explore via horseback or ATV\, or take a wildlife tour. Donor Sofia’s cousin – an experienced local resource – is available to help with personalized tour planning. This package includes up to 80\,000 Delta flight miles to help you get there!\nClick here for more information on the condo.\nDonated by Sofia Valverde & Anita Stangl \n\n\n\n\n\n\n\n\nKAUAI VILLA GETAWAY - 5 NIGHTS IN A 1 BEDROOM VILLA AT THE WESTIN PRINCEVILLE\n\n\n\nEnjoy a relaxing stay in a one-bedroom timeshare villa at The Westin Princeville Ocean Resort Villas on Kauai’s scenic North Shore.This 799-square-foot villa accommodates 2–4 guests and features a king bed\, sofa bed\, and optional rollaway\, along with a full kitchen\, washer and dryer\, Wi-Fi\, and a private lanai. \nSet on a cliff overlooking the Pacific Ocean\, the resort is just minutes from Anini Beach and a short drive to Hanalei Bay\, with access to pools\, dining\, and other resort amenities – perfect for a memorable island escape. \nTravel is valid in 2027 (subject to timeshare availability)\, with Thanksgiving and Christmas excluded. Dates must be mutually agreed upon with the donor\, and the stay must be redeemed by November 30\, 2026. \nFor more information on the property\, click here.  \nDonated by Benjamin Lam and Danielle Lee \n\n\n\n\n\n\n\n\n\n\n\n\n\n\n\n\n\n\n\n\n\n\n\n\n\n\n\n\n\n\n\n	Gala Sponsors\n\nPlease join us in thanking our 2026 Gala Sponsors\n\n\n\n\n\n\n\n\n \n\n\n\n\n \n\n\n\n\n \n\n\n\n\n \n\n\n\n\n\n\n\n\n\n\n\n\n\n \n\n\n\n\n\n\n\n\n\n\n\n\n\n\n\n\n\n\n\n\n\n\n\n \n\n\n\n\n \n\n\n\n\n \n\n\n\n\n\n\n\n\n\n\n\n	\n\n\n\n\n	Allan HerzogGeorge's Donuts and MerrimentLisa and Charlie Weidanz Robert Hunter EventsThe New Bar\n\n\n	American Conservatory TheaterGifting BrandsLMNOP DesignRod YoungThe Progress\n\n\n	Anita StanglGolden State WarriorsLOQUATRon WorlandThe Walt Disney Family Museum\n\n\n	Ben Lam and Danielle LeeGregory GreenLuciana VillanuevaRotary Club of San FranciscoTheatreWorks\n\n\n	Berkeley Repertory TheaterHandlery Union Square HotelMadrona BakeryRuth WenzelTony Spinelli\n\n\n	Bill and Susan DeGradoHarborview Restaurant / Oliver KoMarin Glow HouseSan Fransisco BalletTopgolf\n\n\n	Bistro Central ParcHilda and JesseMarin SymphonySan Francisco GiantsTotal Wine and More\n\n\n	Black Bird CaféHook Fish CoMaureen O'SheaSan Francisco OperaTouchstone Climbing\n\n\n	Borja Plus MediaHotel NikkoMika McHenrySan Francisco SymphonyTrader Joe's\n\n\n	Camilo Riano OrthodonticsIn-N-Out BurgerMission Rock ResortSan Francisco ZooUSS Hornet Museum\n\n\n	Children's Museum of SonomaJack BishopMovement GymsSimmons Family RestaurantsW San Francisco\n\n\n	CostcoJMC CellarsMuseum of Craft and DesignSmuin BalletWally Chang\n\n\n	David Shen OrthoWorksJohn O'ConnorMuseum of Modern ArtSofia ValverdeWaterbar\n\n\n	Fairmont Sonoma Mission Inn and SpaJosey Baker BreadOne BrickSpa J'AdoreWinchester Mystery House\n\n\n	Festus EzeliJoshua Ets-Hokin PhotographyOuterlandsStable Café / Minah MatuszewskiWine Down\n\n\n	Fine Arts Museum of SFJunior League of San FranciscoPatrick & CoStolen Owl / Brad SolsoWoody's\n\n\n	Fog City EntertainmentKarl and Diane WustrackPerry'sSusan TaylorZ Space\n\n\n	Foley Family Wine & SpiritsKiln SFPolk Street FloristThe CrucibleFive-Star Audio Visual\n\n\n	Four Barrel CoffeeKoi Palace / Ulferts CenterPresidio BowlThe Japanese Pantry\n\n\n	Frank YokeLet's RoamRecchiuti ConfectionsThe Marsh\n\n\n\n \n\n\n\n\n\n\n\n\n\n\n\n\n\n\n\n\n\n\n\n\n\n\n\n\n\n\n\nPurchase Ads and Dedications\n\n\n  \nBuy an ad or send a message of congratulations; your donation will support future surgeries.\n\n\n\nAuction Item Donations\n\n\n  \nDonate an auction item to this year’s gala and help us raise funds.\n\n\n\nHotel Discounts\n\n\n  \nSpend the night at The Nikko or The Handlery\, and relax after the event!\n\n\n\n\n\n\n\n\n\n\n\n\n\n\n\n\n\n\n\n\n\n\n\n\n\n\n\n\n	Photos from Previous Galas
URL:https://www.allianceforsmiles.org/event/gala/
LOCATION:Hotel Nikko\, 222 Mason St\, San Francisco\, CA\, 94102\, United States
CATEGORIES:Event
END:VEVENT
BEGIN:VEVENT
DTSTART;VALUE=DATE:20260918
DTEND;VALUE=DATE:20260929
DTSTAMP:20260421T075654
CREATED:20260324T172303Z
LAST-MODIFIED:20260324T173929Z
UID:39605-1789689600-1790639999@www.allianceforsmiles.org
SUMMARY:Kolkata India
DESCRIPTION:Combination treatment and educational mission in Kolkata\, West Bengal.
URL:https://www.allianceforsmiles.org/event/kolkata-india/
LOCATION:S.V.S. Marwari Hospital\, 118\, Amherst St\, Kolkata\, West Bengal\, 700009\, India
CATEGORIES:India,Kolkata
END:VEVENT
BEGIN:VEVENT
DTSTART;VALUE=DATE:20261019
DTEND;VALUE=DATE:20261031
DTSTAMP:20260421T075654
CREATED:20260324T175247Z
LAST-MODIFIED:20260324T175247Z
UID:39613-1792368000-1793404799@www.allianceforsmiles.org
SUMMARY:Khariar\, India
DESCRIPTION:
URL:https://www.allianceforsmiles.org/event/khariar-india/
LOCATION:Khariar Evangelical Hospital\, Evangelical Hospital\, Sagundungari\, Odisha\, 766107\, India
CATEGORIES:India,Khariar
END:VEVENT
END:VCALENDAR