
BEGIN:VCALENDAR
VERSION:2.0
PRODID:-//Alliance for Smiles - ECPv6.15.13//NONSGML v1.0//EN
CALSCALE:GREGORIAN
METHOD:PUBLISH
X-ORIGINAL-URL:https://www.allianceforsmiles.org
X-WR-CALDESC:Events for Alliance for Smiles
REFRESH-INTERVAL;VALUE=DURATION:PT1H
X-Robots-Tag:noindex
X-PUBLISHED-TTL:PT1H
BEGIN:VTIMEZONE
TZID:America/Los_Angeles
BEGIN:DAYLIGHT
TZOFFSETFROM:-0800
TZOFFSETTO:-0700
TZNAME:PDT
DTSTART:20220313T100000
END:DAYLIGHT
BEGIN:STANDARD
TZOFFSETFROM:-0700
TZOFFSETTO:-0800
TZNAME:PST
DTSTART:20221106T090000
END:STANDARD
BEGIN:DAYLIGHT
TZOFFSETFROM:-0800
TZOFFSETTO:-0700
TZNAME:PDT
DTSTART:20230312T100000
END:DAYLIGHT
BEGIN:STANDARD
TZOFFSETFROM:-0700
TZOFFSETTO:-0800
TZNAME:PST
DTSTART:20231105T090000
END:STANDARD
BEGIN:DAYLIGHT
TZOFFSETFROM:-0800
TZOFFSETTO:-0700
TZNAME:PDT
DTSTART:20240310T100000
END:DAYLIGHT
BEGIN:STANDARD
TZOFFSETFROM:-0700
TZOFFSETTO:-0800
TZNAME:PST
DTSTART:20241103T090000
END:STANDARD
END:VTIMEZONE
BEGIN:VEVENT
DTSTART;TZID=America/Los_Angeles:20230529T080000
DTEND;TZID=America/Los_Angeles:20230609T170000
DTSTAMP:20260424T043312
CREATED:20230109T231047Z
LAST-MODIFIED:20230605T193520Z
UID:32199-1685347200-1686330000@www.allianceforsmiles.org
SUMMARY:Hawassa\, Ethiopia Medical Mission
DESCRIPTION:Hawassa Ethiopia – Final Surgery DayRead More			\n		\n	\n\n\n\n\n\n	\n		\n						\n			\n			\n			Hawassa Ethiopia – Fourth Surgery DayRead More			\n		\n	\n\n\n\n\n\n	\n		\n						\n			\n			\n			Hawassa Ethiopia – Third Surgery DayRead More			\n		\n	\n\n\n\n\n\n	\n		\n						\n			\n			\n			Hawassa Ethiopia – Second Surgery DayRead More			\n		\n	\n\n\n\n\n\n	\n		\n						\n			\n			\n			Hawassa Ethiopia – First Surgery DayRead More			\n		\n	\n\n\n\n\n\n	\n		\n						\n			\n			\n			Ethiopia – About Healthcare System and Prevalence of CleftsRead More
URL:https://www.allianceforsmiles.org/event/hawassa-ethiopia-medical-mission/
CATEGORIES:Ethiopia,Hawassa 2023
END:VEVENT
END:VCALENDAR